BEGIN:VCALENDAR
CALSCALE:GREGORIAN
METHOD:PUBLISH
VERSION:2.0
PRODID:-//iCalWriter OpenSource Project//iCalWriter 0.8.1//EN
BEGIN:VEVENT
DTSTAMP:20260420T085716Z
UID:1776675436Kttg@www.gerstungen.de
DTSTART:20230930T100000
DTEND;VALUE=DATE:20230930
SUMMARY:Abangeln am Baggerloch in UNTERSUHL
DESCRIPTION:
LOCATION:Baggerloch in Untersuhl 
		99834 Gerstungen
	
CATEGORIES:Sport/ Freizeit/ Gesundheit
URL:https://www.gerstungen.de/de/veranstaltung-detail/event/27139,1085/abangeln-am-baggerloch-in-untersuhl-30-09-2023.html
ATTACH:https://www.gerstungen.de/de/datei/anzeigen/id/27140,1085/baggerloch.jpg
END:VEVENT
END:VCALENDAR
