BEGIN:VCALENDAR
CALSCALE:GREGORIAN
METHOD:PUBLISH
VERSION:2.0
PRODID:-//iCalWriter OpenSource Project//iCalWriter 0.8.1//EN
BEGIN:VEVENT
DTSTAMP:20260421T104551Z
UID:177676835100UK@www.gerstungen.de
DTSTART;VALUE=DATE:20240920
DTEND;VALUE=DATE:20240922
SUMMARY:950+1 JAHRFEIER in FÖRTHA
DESCRIPTION:20. bis 22. September 2024 findet in Förtha die 950+1 Jahrfeier statt.
Am Freitag, 20.09.2024,  Eröffnung, anschließend TanzveranstaltungAm Samstag, 21.09.2024 stehender UmzugAm Sonntag, 22.09.2024, Ausklang mit  Frühschoppen
 
LOCATION:in Förtha 99834 Gerstungen / Förtha
CATEGORIES:Ausstellungen,Tanzveranstaltungen,Volksfeste
URL:https://www.gerstungen.de/de/veranstaltung-detail/event/34196,1085/9501-jahrfeier-in-foertha-20-09-2024.html
ATTACH:https://www.gerstungen.de/de/datei/anzeigen/id/34197,1085/950_jahrfeier_foertha.jpg
END:VEVENT
END:VCALENDAR
