BEGIN:VCALENDAR
CALSCALE:GREGORIAN
METHOD:PUBLISH
VERSION:2.0
PRODID:-//iCalWriter OpenSource Project//iCalWriter 0.8.1//EN
BEGIN:VEVENT
DTSTAMP:20260421T083039Z
UID:1776760239h2S0@www.gerstungen.de
DTSTART:20240601T193000
DTEND;VALUE=DATE:20240601
SUMMARY:FAUST I - Aufführung der Theatergruppe "Kunstgenuss"
DESCRIPTION:
LOCATION:Schlosshof in Gerstungen 
		99834 Gerstungen
	
CATEGORIES:Bühne/ Theater
URL:https://www.gerstungen.de/de/veranstaltung-detail/event/36158,1085/faust-i---auffuehrung-der-theatergruppe-kunstgenuss-01-06-2024.html
ATTACH:https://www.gerstungen.de/de/datei/anzeigen/id/36159,1085/books-4392336_1280goethe.jpg
END:VEVENT
END:VCALENDAR
