BEGIN:VCALENDAR
CALSCALE:GREGORIAN
METHOD:PUBLISH
VERSION:2.0
PRODID:-//iCalWriter OpenSource Project//iCalWriter 0.8.1//EN
BEGIN:VEVENT
DTSTAMP:20260421T083251Z
UID:1776760371JzO6@www.gerstungen.de
DTSTART:20240611T170000
DTEND;VALUE=DATE:20240611
SUMMARY:GRÜNE BANDE - Junges Schauspiel des Landestheaters
DESCRIPTION:
LOCATION:Schlosshof in Gerstungen 
		99834 Gerstungen
	
CATEGORIES:Bühne/ Theater
URL:https://www.gerstungen.de/de/veranstaltung-detail/event/36466,1085/gruene-bande---junges-schauspiel-des-landestheaters-11-06-2024.html
ATTACH:https://www.gerstungen.de/de/datei/anzeigen/id/36467,1085/gruenebande.png
END:VEVENT
END:VCALENDAR
