BEGIN:VCALENDAR
CALSCALE:GREGORIAN
METHOD:PUBLISH
VERSION:2.0
PRODID:-//iCalWriter OpenSource Project//iCalWriter 0.8.1//EN
BEGIN:VEVENT
DTSTAMP:20260423T155029Z
UID:1776959429vE0R@www.gerstungen.de
DTSTART;VALUE=DATE:20241101
DTEND;VALUE=DATE:20241103
SUMMARY:Kirmes in Marksuhl
DESCRIPTION:
LOCATION:Landgasthof "Zum Grünen Baum" in Marksuhl 
		99834 Gerstungen / Marksuhl
	
CATEGORIES:Musik,Tanzveranstaltungen,Volksfeste
URL:https://www.gerstungen.de/de/veranstaltung-detail/event/39562,1085/kirmes-in-marksuhl-01-11-2024.html
ATTACH:https://www.gerstungen.de/de/datei/anzeigen/id/39564,1085/plakate_logo_2024.jpg
END:VEVENT
END:VCALENDAR
