BEGIN:VCALENDAR
CALSCALE:GREGORIAN
METHOD:PUBLISH
VERSION:2.0
PRODID:-//iCalWriter OpenSource Project//iCalWriter 0.8.1//EN
BEGIN:VEVENT
DTSTAMP:20260422T111052Z
UID:1776856252gPFP@www.gerstungen.de
DTSTART:20250426T100000
DTEND;VALUE=DATE:20250426
SUMMARY:Anangeln mit dem ASV Lauchröden
DESCRIPTION:
LOCATION:Anglergrund in Lauchröden 99834 Gerstungen / Lauchröden
CATEGORIES:Sport/ Freizeit/ Gesundheit
URL:https://www.gerstungen.de/de/veranstaltung-detail/event/42561,1085/anangeln-mit-dem-asv-lauchroeden-26-04-2025.html
END:VEVENT
END:VCALENDAR
