BEGIN:VCALENDAR
CALSCALE:GREGORIAN
METHOD:PUBLISH
VERSION:2.0
PRODID:-//iCalWriter OpenSource Project//iCalWriter 0.8.1//EN
BEGIN:VEVENT
DTSTAMP:20260420T085735Z
UID:1776675455IWDd@www.gerstungen.de
DTSTART;VALUE=DATE:20250314
DTEND;VALUE=DATE:20250314
SUMMARY:Blattschwatzabend in OBERELLEN
DESCRIPTION:
LOCATION:Schlossklause in Oberellen 
		99834 Gerstungen / Oberellen
	
CATEGORIES:Bildung/ Vorträge und Diskussionen
URL:https://www.gerstungen.de/de/veranstaltung-detail/event/42568,1085/blattschwatzabend-in-oberellen-14-03-2025.html
ATTACH:https://www.gerstungen.de/de/datei/anzeigen/id/43639,1085/einladung_2025-03-14.jpg
END:VEVENT
END:VCALENDAR
