BEGIN:VCALENDAR
CALSCALE:GREGORIAN
METHOD:PUBLISH
VERSION:2.0
PRODID:-//iCalWriter OpenSource Project//iCalWriter 0.8.1//EN
BEGIN:VEVENT
DTSTAMP:20260421T084446Z
UID:1776761086Wmhv@www.gerstungen.de
DTSTART:20250419T093000
DTEND;VALUE=DATE:20250419
SUMMARY:Aufstellen des Osterbaums in LAUCHRÖDEN
DESCRIPTION:
LOCATION:Dorfplatz Lauchröden - am Dorfgemeinschaftshaus 
		99834 Gerstungen / Lauchröden
	
CATEGORIES:Volksfeste
URL:https://www.gerstungen.de/de/veranstaltung-detail/event/42569,1085/aufstellen-des-osterbaums-in-lauchroeden-19-04-2025.html
END:VEVENT
END:VCALENDAR
