BEGIN:VCALENDAR
CALSCALE:GREGORIAN
METHOD:PUBLISH
VERSION:2.0
PRODID:-//iCalWriter OpenSource Project//iCalWriter 0.8.1//EN
BEGIN:VEVENT
DTSTAMP:20260421T090731Z
UID:1776762451a64z@www.gerstungen.de
DTSTART:20250517T200000
DTEND;VALUE=DATE:20250517
SUMMARY:3. Themengottesdienst in FÖRTHA
DESCRIPTION:
LOCATION:Kirche Förtha 99834 Gerstungen / Förtha
CATEGORIES:Kirchliche Veranstaltungen
URL:https://www.gerstungen.de/de/veranstaltung-detail/event/43414,1085/3-themengottesdienst-in-foertha-17-05-2025.html
END:VEVENT
END:VCALENDAR
