BEGIN:VCALENDAR
CALSCALE:GREGORIAN
METHOD:PUBLISH
VERSION:2.0
PRODID:-//iCalWriter OpenSource Project//iCalWriter 0.8.1//EN
BEGIN:VEVENT
DTSTAMP:20260421T104633Z
UID:1776768393qeOU@www.gerstungen.de
DTSTART:20250329T100000
DTEND;VALUE=DATE:20250329
SUMMARY:Frühjahrsputz in BURKHARDTRODA
DESCRIPTION:
LOCATION:Burkhardtroda - Bushaltestelle 99834 Gerstungen / Burkhardtroda
CATEGORIES:Sonstiges
URL:https://www.gerstungen.de/de/veranstaltung-detail/event/43766,1085/fruehjahrsputz-in-burkhardtroda-29-03-2025.html
ATTACH:https://www.gerstungen.de/de/datei/anzeigen/id/43767,1085/fruehjahrsputz_burkhardtroda.jpg
END:VEVENT
END:VCALENDAR
