BEGIN:VCALENDAR
CALSCALE:GREGORIAN
METHOD:PUBLISH
VERSION:2.0
PRODID:-//iCalWriter OpenSource Project//iCalWriter 0.8.1//EN
BEGIN:VEVENT
DTSTAMP:20260420T085904Z
UID:1776675544fDSj@www.gerstungen.de
DTSTART:20250419T093000
DTEND;VALUE=DATE:20250419
SUMMARY:Osterbaumstellen in LAUCHRÖDEN
DESCRIPTION:
LOCATION:Sportplatz Lauchröden 99834 Gerstungen / Lauchröden
CATEGORIES:Volksfeste
URL:https://www.gerstungen.de/de/veranstaltung-detail/event/43924,1085/osterbaumstellen-in-lauchroeden-19-04-2025.html
ATTACH:https://www.gerstungen.de/de/datei/anzeigen/id/43925,1085/osterbaum_zeitungsartikel_bild.jpg
END:VEVENT
END:VCALENDAR
