BEGIN:VCALENDAR
CALSCALE:GREGORIAN
METHOD:PUBLISH
VERSION:2.0
PRODID:-//iCalWriter OpenSource Project//iCalWriter 0.8.1//EN
BEGIN:VEVENT
DTSTAMP:20260420T103107Z
UID:17766810676pCV@www.gerstungen.de
DTSTART:20250511T100000
DTEND;VALUE=DATE:20250511
SUMMARY:Anradeln im WERRATAL
DESCRIPTION:
LOCATION:Markt 99834 Gerstungen
CATEGORIES:Sport/ Freizeit/ Gesundheit
URL:https://www.gerstungen.de/de/veranstaltung-detail/event/44784,1085/anradeln-im-werratal-11-05-2025.html
ATTACH:https://www.gerstungen.de/de/datei/anzeigen/id/44785,1085/digital_anzeige_anradeln_2025.jpg
END:VEVENT
END:VCALENDAR
