BEGIN:VCALENDAR
CALSCALE:GREGORIAN
METHOD:PUBLISH
VERSION:2.0
PRODID:-//iCalWriter OpenSource Project//iCalWriter 0.8.1//EN
BEGIN:VEVENT
DTSTAMP:20260420T084702Z
UID:1776674822ppmW@www.gerstungen.de
DTSTART:20250621T150000
DTEND;VALUE=DATE:20250621
SUMMARY:Sommerfest in OBERELLEN
DESCRIPTION:
LOCATION:Evangelisch Freikirchliche Gemeinde Oberellen 99834 Gerstungen / Oberellen
CATEGORIES:Kirchliche Veranstaltungen,Volksfeste
URL:https://www.gerstungen.de/de/veranstaltung-detail/event/45295,1085/sommerfest-in-oberellen-21-06-2025.html
ATTACH:https://www.gerstungen.de/de/datei/anzeigen/id/45296,1085/efg_sommerfest_2025.jpg
END:VEVENT
END:VCALENDAR
