BEGIN:VCALENDAR
CALSCALE:GREGORIAN
METHOD:PUBLISH
VERSION:2.0
PRODID:-//iCalWriter OpenSource Project//iCalWriter 0.8.1//EN
BEGIN:VEVENT
DTSTAMP:20260421T083436Z
UID:17767604769FXd@www.gerstungen.de
DTSTART;VALUE=DATE:20250621
DTEND;VALUE=DATE:20250622
SUMMARY:Ziehbrunnenfest in NEUSTÄDT
DESCRIPTION:
LOCATION:Festplatz Neustädt 99834 Gerstungen / Neustädt
CATEGORIES:Musik,Volksfeste
URL:https://www.gerstungen.de/de/veranstaltung-detail/event/45327,1085/ziehbrunnenfest-in-neustaedt-21-06-2025.html
ATTACH:https://www.gerstungen.de/de/datei/anzeigen/id/45328,1085/ziehbrunnenfest_flyer!.jpg
END:VEVENT
END:VCALENDAR
