BEGIN:VCALENDAR
CALSCALE:GREGORIAN
METHOD:PUBLISH
VERSION:2.0
PRODID:-//iCalWriter OpenSource Project//iCalWriter 0.8.1//EN
BEGIN:VEVENT
DTSTAMP:20260421T083519Z
UID:1776760519g5hS@www.gerstungen.de
DTSTART:20250802T203000
DTEND;VALUE=DATE:20250802
SUMMARY:ROCK & OLDIES der 60er & 70er in MARKSUHL
DESCRIPTION:
LOCATION:KTZV Vereinsheim Marksuhl 99834 Gerstungen / Marksuhl
CATEGORIES:Tanzveranstaltungen
URL:https://www.gerstungen.de/de/veranstaltung-detail/event/45487,1085/rock--oldies-der-60er--70er-in-marksuhl-02-08-2025.html
ATTACH:https://www.gerstungen.de/de/datei/anzeigen/id/45488,1085/free-electric-bandmarksuhl.png
END:VEVENT
END:VCALENDAR
