BEGIN:VCALENDAR
CALSCALE:GREGORIAN
METHOD:PUBLISH
VERSION:2.0
PRODID:-//iCalWriter OpenSource Project//iCalWriter 0.8.1//EN
BEGIN:VEVENT
DTSTAMP:20260421T090853Z
UID:17767625336Rbk@www.gerstungen.de
DTSTART:20251121T150000
DTEND:20251121T183000
SUMMARY:Weihnachtsbasteln Oberellen
DESCRIPTION:Vorweihnachtlicher Kreativnachmittag Dekorationen für die bevorstehende Weihnachtszeit  -  Geschenke, kleine Mitbringsel,  Dekoratives aus Holz oder individuelle Christbaumkugeln u. v. m. Für Material und Inspiration ist gesorgt.
Anmeldung bitte bei
Franziska Knoth: →  0172-7042253 oderKarin Göldner : →    0171-4223538
Unkostenbeitrag für Material: →  5,00 € Kinder  → → → → → → →→→→→  10,00 € Erwachsene
Ideenwerkstatt Schlosshof e. V.
LOCATION:Bürgerbegegnungsstätte Oberellen 
		99834 Gerstungen / Oberellen
	
CATEGORIES:Sonstiges
URL:https://www.gerstungen.de/de/veranstaltung-detail/event/47673,1085/weihnachtsbasteln-oberellen-21-11-2025.html
END:VEVENT
END:VCALENDAR
