BEGIN:VCALENDAR
CALSCALE:GREGORIAN
METHOD:PUBLISH
VERSION:2.0
PRODID:-//iCalWriter OpenSource Project//iCalWriter 0.8.1//EN
BEGIN:VEVENT
DTSTAMP:20260421T090832Z
UID:1776762512CG8U@www.gerstungen.de
DTSTART:20251205T143000
DTEND;VALUE=DATE:20251205
SUMMARY:Rentnerweihnachtsfeier Förtha
DESCRIPTION:
LOCATION:"Elteschlösschen" in Förtha 99834 Gerstungen / Förtha
CATEGORIES:Seniorinnen + Senioren,Sonstiges
URL:https://www.gerstungen.de/de/veranstaltung-detail/event/47852,1085/rentnerweihnachtsfeier-foertha-05-12-2025.html
ATTACH:https://www.gerstungen.de/de/datei/anzeigen/id/47853,1085/rentnerweihnachtsfeier_foertha-1.jpg
END:VEVENT
END:VCALENDAR
