BEGIN:VCALENDAR
CALSCALE:GREGORIAN
METHOD:PUBLISH
VERSION:2.0
PRODID:-//iCalWriter OpenSource Project//iCalWriter 0.8.1//EN
BEGIN:VEVENT
DTSTAMP:20260420T091913Z
UID:1776676753QbFs@www.gerstungen.de
DTSTART:20260213T200000
DTEND;VALUE=DATE:20260213
SUMMARY:Karneval in MARKSUHL
DESCRIPTION:
LOCATION:Gasthaus "Zum Grünen Baum" Marksuhl 99834 Gerstungen / Marksuhl
CATEGORIES:Fasching,Volksfeste
URL:https://www.gerstungen.de/de/veranstaltung-detail/event/47947,1085/karneval-in-marksuhl-13-02-2026.html
ATTACH:https://www.gerstungen.de/de/datei/anzeigen/id/48038,1085/veranstaltungen_mkc_-_karneval_marksuhl.jpg
END:VEVENT
END:VCALENDAR
