BEGIN:VCALENDAR
CALSCALE:GREGORIAN
METHOD:PUBLISH
VERSION:2.0
PRODID:-//iCalWriter OpenSource Project//iCalWriter 0.8.1//EN
BEGIN:VEVENT
DTSTAMP:20260421T104530Z
UID:1776768330En6u@www.gerstungen.de
DTSTART:20260222T150000
DTEND;VALUE=DATE:20260222
SUMMARY:Tanztee in UNTERELLEN
DESCRIPTION:
LOCATION:Dorfgemeinschaftshaus Unterellen 
		99834 Gerstungen / Unterellen
	
CATEGORIES:Musik,Sonstiges,Tanzveranstaltungen
URL:https://www.gerstungen.de/de/veranstaltung-detail/event/48871,1085/tanztee-in-unterellen-22-02-2026.html
ATTACH:https://www.gerstungen.de/de/datei/anzeigen/id/48872,1085/tanztee_unterellen.jpg
END:VEVENT
END:VCALENDAR
