BEGIN:VCALENDAR
CALSCALE:GREGORIAN
METHOD:PUBLISH
VERSION:2.0
PRODID:-//iCalWriter OpenSource Project//iCalWriter 0.8.1//EN
BEGIN:VEVENT
DTSTAMP:20260420T084548Z
UID:1776674748sCT6@www.gerstungen.de
DTSTART:20260307T180000
DTEND:20260307T210000
SUMMARY:Kaufrausch - Der Flohmarkt für Mädels in LAUCHRÖDEN
DESCRIPTION:
LOCATION:Löwensaal Lauchröden 
		99834 Gerstungen / Lauchröden
	
CATEGORIES:Musik,Märkte
URL:https://www.gerstungen.de/de/veranstaltung-detail/event/48980,1085/kaufrausch---der-flohmarkt-fuer-maedels-in-lauchroeden-07-03-2026.html
ATTACH:https://www.gerstungen.de/de/datei/anzeigen/id/48981,1085/flohmarkt_kaufrausch_lauchroeden.jpg
END:VEVENT
END:VCALENDAR
