BEGIN:VCALENDAR
CALSCALE:GREGORIAN
METHOD:PUBLISH
VERSION:2.0
PRODID:-//iCalWriter OpenSource Project//iCalWriter 0.8.1//EN
BEGIN:VEVENT
DTSTAMP:20260420T120718Z
UID:1776686838JjZM@www.gerstungen.de
DTSTART:20260430T180000
DTEND;VALUE=DATE:20260430
SUMMARY:Walpurgisfeuer in BURKHARDTRODA
DESCRIPTION:
LOCATION:Wildgehege 99834 Gerstungen / Burkhardtroda
CATEGORIES:Tanzveranstaltungen,Volksfeste
URL:https://www.gerstungen.de/de/veranstaltung-detail/event/49575,1085/walpurgisfeuer-in-burkhardtroda-30-04-2026.html
ATTACH:https://www.gerstungen.de/de/datei/anzeigen/id/49576,1085/walpurgisfeuerburkhardtroda.jpg
END:VEVENT
END:VCALENDAR
